BEGIN:VCALENDAR
VERSION:2.0
PRODID:-//DuPage County Farm Bureau - ECPv6.15.20//NONSGML v1.0//EN
CALSCALE:GREGORIAN
METHOD:PUBLISH
X-WR-CALNAME:DuPage County Farm Bureau
X-ORIGINAL-URL:https://dcfb.org
X-WR-CALDESC:Events for DuPage County Farm Bureau
REFRESH-INTERVAL;VALUE=DURATION:PT1H
X-Robots-Tag:noindex
X-PUBLISHED-TTL:PT1H
BEGIN:VTIMEZONE
TZID:America/Chicago
BEGIN:DAYLIGHT
TZOFFSETFROM:-0600
TZOFFSETTO:-0500
TZNAME:CDT
DTSTART:20250309T080000
END:DAYLIGHT
BEGIN:STANDARD
TZOFFSETFROM:-0500
TZOFFSETTO:-0600
TZNAME:CST
DTSTART:20251102T070000
END:STANDARD
BEGIN:DAYLIGHT
TZOFFSETFROM:-0600
TZOFFSETTO:-0500
TZNAME:CDT
DTSTART:20260308T080000
END:DAYLIGHT
BEGIN:STANDARD
TZOFFSETFROM:-0500
TZOFFSETTO:-0600
TZNAME:CST
DTSTART:20261101T070000
END:STANDARD
BEGIN:DAYLIGHT
TZOFFSETFROM:-0600
TZOFFSETTO:-0500
TZNAME:CDT
DTSTART:20270314T080000
END:DAYLIGHT
BEGIN:STANDARD
TZOFFSETFROM:-0500
TZOFFSETTO:-0600
TZNAME:CST
DTSTART:20271107T070000
END:STANDARD
END:VTIMEZONE
BEGIN:VEVENT
DTSTART;VALUE=DATE:20260317
DTEND;VALUE=DATE:20260318
DTSTAMP:20260421T230917
CREATED:20260127T162501Z
LAST-MODIFIED:20260127T175154Z
UID:6887-1773705600-1773791999@dcfb.org
SUMMARY:Meat Order Deadline
DESCRIPTION:
URL:https://dcfb.org/event/meat-order-deadline-90/
END:VEVENT
BEGIN:VEVENT
DTSTART;VALUE=DATE:20260326
DTEND;VALUE=DATE:20260327
DTSTAMP:20260421T230917
CREATED:20260127T162601Z
LAST-MODIFIED:20260127T175220Z
UID:6889-1774483200-1774569599@dcfb.org
SUMMARY:Meat Order Pick-Up
DESCRIPTION:
URL:https://dcfb.org/event/meat-order-pick-up-86/
END:VEVENT
END:VCALENDAR