BEGIN:VCALENDAR
VERSION:2.0
PRODID:-//DuPage County Farm Bureau - ECPv6.15.20//NONSGML v1.0//EN
CALSCALE:GREGORIAN
METHOD:PUBLISH
X-WR-CALNAME:DuPage County Farm Bureau
X-ORIGINAL-URL:https://dcfb.org
X-WR-CALDESC:Events for DuPage County Farm Bureau
REFRESH-INTERVAL;VALUE=DURATION:PT1H
X-Robots-Tag:noindex
X-PUBLISHED-TTL:PT1H
BEGIN:VTIMEZONE
TZID:America/Chicago
BEGIN:DAYLIGHT
TZOFFSETFROM:-0600
TZOFFSETTO:-0500
TZNAME:CDT
DTSTART:20250309T080000
END:DAYLIGHT
BEGIN:STANDARD
TZOFFSETFROM:-0500
TZOFFSETTO:-0600
TZNAME:CST
DTSTART:20251102T070000
END:STANDARD
BEGIN:DAYLIGHT
TZOFFSETFROM:-0600
TZOFFSETTO:-0500
TZNAME:CDT
DTSTART:20260308T080000
END:DAYLIGHT
BEGIN:STANDARD
TZOFFSETFROM:-0500
TZOFFSETTO:-0600
TZNAME:CST
DTSTART:20261101T070000
END:STANDARD
BEGIN:DAYLIGHT
TZOFFSETFROM:-0600
TZOFFSETTO:-0500
TZNAME:CDT
DTSTART:20270314T080000
END:DAYLIGHT
BEGIN:STANDARD
TZOFFSETFROM:-0500
TZOFFSETTO:-0600
TZNAME:CST
DTSTART:20271107T070000
END:STANDARD
END:VTIMEZONE
BEGIN:VEVENT
DTSTART;TZID=America/Chicago:20260504T080000
DTEND;TZID=America/Chicago:20260504T150000
DTSTAMP:20260421T230841
CREATED:20260421T212951Z
LAST-MODIFIED:20260421T212951Z
UID:7070-1777881600-1777906800@dcfb.org
SUMMARY:Grow Your Own Food Program
DESCRIPTION:
URL:https://dcfb.org/event/grow-your-own-food-program/
LOCATION:DuPage County Fairgrounds\, Wheaton\, Illinois
END:VEVENT
BEGIN:VEVENT
DTSTART;TZID=America/Chicago:20260505T080000
DTEND;TZID=America/Chicago:20260505T150000
DTSTAMP:20260421T230841
CREATED:20260421T213120Z
LAST-MODIFIED:20260421T213120Z
UID:7072-1777968000-1777993200@dcfb.org
SUMMARY:Grow Your Own Food Program
DESCRIPTION:
URL:https://dcfb.org/event/grow-your-own-food-program-2/
LOCATION:DuPage County Fairgrounds\, Wheaton\, Illinois
END:VEVENT
BEGIN:VEVENT
DTSTART;TZID=America/Chicago:20260506T080000
DTEND;TZID=America/Chicago:20260506T150000
DTSTAMP:20260421T230841
CREATED:20260421T213203Z
LAST-MODIFIED:20260421T213231Z
UID:7074-1778054400-1778079600@dcfb.org
SUMMARY:Grow Your Own Food Program
DESCRIPTION:
URL:https://dcfb.org/event/grow-your-own-food-program-3/
LOCATION:DuPage County Fairgrounds\, Wheaton\, Illinois
END:VEVENT
BEGIN:VEVENT
DTSTART;VALUE=DATE:20260512
DTEND;VALUE=DATE:20260513
DTSTAMP:20260421T230841
CREATED:20260127T170613Z
LAST-MODIFIED:20260127T172413Z
UID:6895-1778544000-1778630399@dcfb.org
SUMMARY:Meat Order Deadline
DESCRIPTION:
URL:https://dcfb.org/event/meat-order-deadline-92/
END:VEVENT
BEGIN:VEVENT
DTSTART;VALUE=DATE:20260521
DTEND;VALUE=DATE:20260522
DTSTAMP:20260421T230841
CREATED:20260127T170703Z
LAST-MODIFIED:20260127T170703Z
UID:6897-1779321600-1779407999@dcfb.org
SUMMARY:Meat Order Pick-Up
DESCRIPTION:
URL:https://dcfb.org/event/meat-order-pick-up-88/
END:VEVENT
BEGIN:VEVENT
DTSTART;VALUE=DATE:20260525
DTEND;VALUE=DATE:20260526
DTSTAMP:20260421T230841
CREATED:20260408T154459Z
LAST-MODIFIED:20260408T154459Z
UID:7018-1779667200-1779753599@dcfb.org
SUMMARY:Memorial Day - Office Closed
DESCRIPTION:
URL:https://dcfb.org/event/memorial-day-office-closed-2/
END:VEVENT
END:VCALENDAR