BEGIN:VCALENDAR
VERSION:2.0
PRODID:-//DuPage County Farm Bureau - ECPv6.15.20//NONSGML v1.0//EN
CALSCALE:GREGORIAN
METHOD:PUBLISH
X-WR-CALNAME:DuPage County Farm Bureau
X-ORIGINAL-URL:https://dcfb.org
X-WR-CALDESC:Events for DuPage County Farm Bureau
REFRESH-INTERVAL;VALUE=DURATION:PT1H
X-Robots-Tag:noindex
X-PUBLISHED-TTL:PT1H
BEGIN:VTIMEZONE
TZID:America/Chicago
BEGIN:DAYLIGHT
TZOFFSETFROM:-0600
TZOFFSETTO:-0500
TZNAME:CDT
DTSTART:20250309T080000
END:DAYLIGHT
BEGIN:STANDARD
TZOFFSETFROM:-0500
TZOFFSETTO:-0600
TZNAME:CST
DTSTART:20251102T070000
END:STANDARD
BEGIN:DAYLIGHT
TZOFFSETFROM:-0600
TZOFFSETTO:-0500
TZNAME:CDT
DTSTART:20260308T080000
END:DAYLIGHT
BEGIN:STANDARD
TZOFFSETFROM:-0500
TZOFFSETTO:-0600
TZNAME:CST
DTSTART:20261101T070000
END:STANDARD
BEGIN:DAYLIGHT
TZOFFSETFROM:-0600
TZOFFSETTO:-0500
TZNAME:CDT
DTSTART:20270314T080000
END:DAYLIGHT
BEGIN:STANDARD
TZOFFSETFROM:-0500
TZOFFSETTO:-0600
TZNAME:CST
DTSTART:20271107T070000
END:STANDARD
END:VTIMEZONE
BEGIN:VEVENT
DTSTART;VALUE=DATE:20260915
DTEND;VALUE=DATE:20260916
DTSTAMP:20260422T054638
CREATED:20260127T181307Z
LAST-MODIFIED:20260127T181307Z
UID:6911-1789430400-1789516799@dcfb.org
SUMMARY:Meat Order Deadline
DESCRIPTION:
URL:https://dcfb.org/event/meat-order-deadline-96/
END:VEVENT
BEGIN:VEVENT
DTSTART;VALUE=DATE:20260924
DTEND;VALUE=DATE:20260925
DTSTAMP:20260422T054638
CREATED:20260127T181341Z
LAST-MODIFIED:20260127T181341Z
UID:6913-1790208000-1790294399@dcfb.org
SUMMARY:Meat Order Pick-Up
DESCRIPTION:
URL:https://dcfb.org/event/meat-order-pick-up-92/
END:VEVENT
END:VCALENDAR