BEGIN:VCALENDAR
VERSION:2.0
PRODID:-//DuPage County Farm Bureau - ECPv6.15.20//NONSGML v1.0//EN
CALSCALE:GREGORIAN
METHOD:PUBLISH
X-WR-CALNAME:DuPage County Farm Bureau
X-ORIGINAL-URL:https://dcfb.org
X-WR-CALDESC:Events for DuPage County Farm Bureau
REFRESH-INTERVAL;VALUE=DURATION:PT1H
X-Robots-Tag:noindex
X-PUBLISHED-TTL:PT1H
BEGIN:VTIMEZONE
TZID:America/Chicago
BEGIN:DAYLIGHT
TZOFFSETFROM:-0600
TZOFFSETTO:-0500
TZNAME:CDT
DTSTART:20250309T080000
END:DAYLIGHT
BEGIN:STANDARD
TZOFFSETFROM:-0500
TZOFFSETTO:-0600
TZNAME:CST
DTSTART:20251102T070000
END:STANDARD
BEGIN:DAYLIGHT
TZOFFSETFROM:-0600
TZOFFSETTO:-0500
TZNAME:CDT
DTSTART:20260308T080000
END:DAYLIGHT
BEGIN:STANDARD
TZOFFSETFROM:-0500
TZOFFSETTO:-0600
TZNAME:CST
DTSTART:20261101T070000
END:STANDARD
BEGIN:DAYLIGHT
TZOFFSETFROM:-0600
TZOFFSETTO:-0500
TZNAME:CDT
DTSTART:20270314T080000
END:DAYLIGHT
BEGIN:STANDARD
TZOFFSETFROM:-0500
TZOFFSETTO:-0600
TZNAME:CST
DTSTART:20271107T070000
END:STANDARD
END:VTIMEZONE
BEGIN:VEVENT
DTSTART;VALUE=DATE:20261208
DTEND;VALUE=DATE:20261209
DTSTAMP:20260422T105711
CREATED:20260127T182438Z
LAST-MODIFIED:20260127T182438Z
UID:6923-1796688000-1796774399@dcfb.org
SUMMARY:Meat Order Deadline
DESCRIPTION:
URL:https://dcfb.org/event/meat-order-deadline-99/
END:VEVENT
BEGIN:VEVENT
DTSTART;VALUE=DATE:20261217
DTEND;VALUE=DATE:20261218
DTSTAMP:20260422T105711
CREATED:20260127T182528Z
LAST-MODIFIED:20260127T182528Z
UID:6925-1797465600-1797551999@dcfb.org
SUMMARY:Meat Order Pick-Up
DESCRIPTION:
URL:https://dcfb.org/event/meat-order-pick-up-95/
END:VEVENT
BEGIN:VEVENT
DTSTART;VALUE=DATE:20261225
DTEND;VALUE=DATE:20261226
DTSTAMP:20260422T105711
CREATED:20250122T210300Z
LAST-MODIFIED:20260106T192533Z
UID:6466-1798156800-1798243199@dcfb.org
SUMMARY:Christmas Day - Office Closed
DESCRIPTION:
URL:https://dcfb.org/event/christmas-day-office-closed/
END:VEVENT
END:VCALENDAR